BEGIN:VCALENDAR
VERSION:2.0
PRODID:-//Centro per Non subire violenza - ECPv6.15.16//NONSGML v1.0//EN
CALSCALE:GREGORIAN
METHOD:PUBLISH
X-WR-CALNAME:Centro per Non subire violenza
X-ORIGINAL-URL:https://pernonsubireviolenza.it
X-WR-CALDESC:Eventi per Centro per Non subire violenza
REFRESH-INTERVAL;VALUE=DURATION:PT1H
X-Robots-Tag:noindex
X-PUBLISHED-TTL:PT1H
BEGIN:VTIMEZONE
TZID:UTC
BEGIN:STANDARD
TZOFFSETFROM:+0000
TZOFFSETTO:+0000
TZNAME:UTC
DTSTART:20230101T000000
END:STANDARD
END:VTIMEZONE
BEGIN:VEVENT
DTSTART;TZID=UTC:20241120T230000
DTEND;TZID=UTC:20241120T230000
DTSTAMP:20260421T090122
CREATED:20241119T100631Z
LAST-MODIFIED:20241128T133419Z
UID:9643-1732143600-1732143600@pernonsubireviolenza.it
SUMMARY:Incontro con UGL
DESCRIPTION:19 \nLavoro\, pari opportunità\, violenza di genere. Il mondo del lavoro\, una realtà sindacale e il Centro Per Non Subire Violenza: ragionare insieme per superare stereotipi e pregiudizi.
URL:https://pernonsubireviolenza.it/event/20-novembre-24-genova/
LOCATION:genova
CATEGORIES:2024,GENOVA
ATTACH;FMTTYPE=application/pdf:https://pernonsubireviolenza.it/wp-content/uploads/2024/11/Locandina-UGL-2024-1.pdf
END:VEVENT
END:VCALENDAR