BEGIN:VCALENDAR
VERSION:2.0
PRODID:-//Centro per Non subire violenza - ECPv6.15.16//NONSGML v1.0//EN
CALSCALE:GREGORIAN
METHOD:PUBLISH
X-WR-CALNAME:Centro per Non subire violenza
X-ORIGINAL-URL:https://pernonsubireviolenza.it
X-WR-CALDESC:Eventi per Centro per Non subire violenza
REFRESH-INTERVAL;VALUE=DURATION:PT1H
X-Robots-Tag:noindex
X-PUBLISHED-TTL:PT1H
BEGIN:VTIMEZONE
TZID:UTC
BEGIN:STANDARD
TZOFFSETFROM:+0000
TZOFFSETTO:+0000
TZNAME:UTC
DTSTART:20230101T000000
END:STANDARD
END:VTIMEZONE
BEGIN:VEVENT
DTSTART;TZID=UTC:20241206T080000
DTEND;TZID=UTC:20241206T170000
DTSTAMP:20260421T083613
CREATED:20241206T113834Z
LAST-MODIFIED:20241206T114144Z
UID:9872-1733472000-1733504400@pernonsubireviolenza.it
SUMMARY:Presentazione libro
DESCRIPTION:
URL:https://pernonsubireviolenza.it/event/5-dicembre-genova/
CATEGORIES:2024,GENOVA
ATTACH;FMTTYPE=image/jpeg:https://pernonsubireviolenza.it/wp-content/uploads/2024/12/WhatsApp-Image-2024-12-06-at-11.54.19-1.jpeg
END:VEVENT
END:VCALENDAR