BEGIN:VCALENDAR
VERSION:2.0
PRODID:-//Centro per Non subire violenza - ECPv6.15.16//NONSGML v1.0//EN
CALSCALE:GREGORIAN
METHOD:PUBLISH
X-WR-CALNAME:Centro per Non subire violenza
X-ORIGINAL-URL:https://pernonsubireviolenza.it
X-WR-CALDESC:Eventi per Centro per Non subire violenza
REFRESH-INTERVAL;VALUE=DURATION:PT1H
X-Robots-Tag:noindex
X-PUBLISHED-TTL:PT1H
BEGIN:VTIMEZONE
TZID:UTC
BEGIN:STANDARD
TZOFFSETFROM:+0000
TZOFFSETTO:+0000
TZNAME:UTC
DTSTART:20230101T000000
END:STANDARD
END:VTIMEZONE
BEGIN:VEVENT
DTSTART;TZID=UTC:20240405T170000
DTEND;TZID=UTC:20240405T170000
DTSTAMP:20260421T085809
CREATED:20240405T134505Z
LAST-MODIFIED:20241118T172420Z
UID:6583-1712336400-1712336400@pernonsubireviolenza.it
SUMMARY:Presentazione Libro
DESCRIPTION:RIPRENDO LA MIA VITA – STORIE DI DONNE DEL CENTRO PER NON SUBIRE VIOLENZA \nVenerdì 5 Aprile alle ore 17.00 in Via Balestrazzi 38r per la presentazione del libro “Riprendo la mia vita: Storie di donne del Centro Per Non Subire Violenza.
URL:https://pernonsubireviolenza.it/event/6583/
CATEGORIES:2024,GENOVA
ATTACH;FMTTYPE=image/jpeg:https://pernonsubireviolenza.it/wp-content/uploads/2024/08/7aprile.jpg
END:VEVENT
END:VCALENDAR