BEGIN:VCALENDAR
VERSION:2.0
PRODID:-//Centro per Non subire violenza - ECPv6.15.16//NONSGML v1.0//EN
CALSCALE:GREGORIAN
METHOD:PUBLISH
X-WR-CALNAME:Centro per Non subire violenza
X-ORIGINAL-URL:https://pernonsubireviolenza.it
X-WR-CALDESC:Eventi per Centro per Non subire violenza
REFRESH-INTERVAL;VALUE=DURATION:PT1H
X-Robots-Tag:noindex
X-PUBLISHED-TTL:PT1H
BEGIN:VTIMEZONE
TZID:UTC
BEGIN:STANDARD
TZOFFSETFROM:+0000
TZOFFSETTO:+0000
TZNAME:UTC
DTSTART:20230101T000000
END:STANDARD
END:VTIMEZONE
BEGIN:VEVENT
DTSTART;TZID=UTC:20240920T100000
DTEND;TZID=UTC:20240920T133000
DTSTAMP:20260421T090634
CREATED:20240920T193504Z
LAST-MODIFIED:20241117T134218Z
UID:9228-1726826400-1726839000@pernonsubireviolenza.it
SUMMARY:Insieme contro la povertà
DESCRIPTION:Coop Liguria:  20 settembre 2024\n20 settembre ore 10.00 Sala Quadrivium ore 10.00 Piazza Santa Marta 2\, Genova per ritiro card solidali
URL:https://pernonsubireviolenza.it/event/insieme-contro-la-poverta/
CATEGORIES:2024,GENOVA
ATTACH;FMTTYPE=image/jpeg:https://pernonsubireviolenza.it/wp-content/uploads/2024/11/EVENTO-ORGANIZZATO-COOP-LIGURIA-SETTEMBRE-2024.jpg
END:VEVENT
END:VCALENDAR