BEGIN:VCALENDAR
VERSION:2.0
PRODID:-//Centro per Non subire violenza - ECPv6.15.16//NONSGML v1.0//EN
CALSCALE:GREGORIAN
METHOD:PUBLISH
X-WR-CALNAME:Centro per Non subire violenza
X-ORIGINAL-URL:https://pernonsubireviolenza.it
X-WR-CALDESC:Eventi per Centro per Non subire violenza
REFRESH-INTERVAL;VALUE=DURATION:PT1H
X-Robots-Tag:noindex
X-PUBLISHED-TTL:PT1H
BEGIN:VTIMEZONE
TZID:UTC
BEGIN:STANDARD
TZOFFSETFROM:+0000
TZOFFSETTO:+0000
TZNAME:UTC
DTSTART:20230101T000000
END:STANDARD
END:VTIMEZONE
BEGIN:VEVENT
DTSTART;TZID=UTC:20240622T153000
DTEND;TZID=UTC:20240622T153000
DTSTAMP:20260421T084143
CREATED:20240622T193727Z
LAST-MODIFIED:20241118T170950Z
UID:9231-1719070200-1719070200@pernonsubireviolenza.it
SUMMARY:Saggio di Spazio Danza
DESCRIPTION:Spazio Danza: saggio di Spazio Danza 22/06 al Teatro Genovese ore 15;30 saggio finale per bambini/e e ore 20\,30 saggio finale per ragazze/i e uomini e donne
URL:https://pernonsubireviolenza.it/event/saggio-di-spazio-danza/
CATEGORIES:2024,GENOVA
END:VEVENT
END:VCALENDAR